BEGIN:VCALENDAR
VERSION:2.0
PRODID:-//FCPE 78 - CDPE Yvelines - ECPv6.15.20//NONSGML v1.0//EN
CALSCALE:GREGORIAN
METHOD:PUBLISH
X-ORIGINAL-URL:https://www.fcpe78.fr
X-WR-CALDESC:Évènements pour FCPE 78 - CDPE Yvelines
REFRESH-INTERVAL;VALUE=DURATION:PT1H
X-Robots-Tag:noindex
X-PUBLISHED-TTL:PT1H
BEGIN:VTIMEZONE
TZID:Europe/Paris
BEGIN:DAYLIGHT
TZOFFSETFROM:+0100
TZOFFSETTO:+0200
TZNAME:CEST
DTSTART:20220327T010000
END:DAYLIGHT
BEGIN:STANDARD
TZOFFSETFROM:+0200
TZOFFSETTO:+0100
TZNAME:CET
DTSTART:20221030T010000
END:STANDARD
BEGIN:DAYLIGHT
TZOFFSETFROM:+0100
TZOFFSETTO:+0200
TZNAME:CEST
DTSTART:20230326T010000
END:DAYLIGHT
BEGIN:STANDARD
TZOFFSETFROM:+0200
TZOFFSETTO:+0100
TZNAME:CET
DTSTART:20231029T010000
END:STANDARD
BEGIN:DAYLIGHT
TZOFFSETFROM:+0100
TZOFFSETTO:+0200
TZNAME:CEST
DTSTART:20240331T010000
END:DAYLIGHT
BEGIN:STANDARD
TZOFFSETFROM:+0200
TZOFFSETTO:+0100
TZNAME:CET
DTSTART:20241027T010000
END:STANDARD
END:VTIMEZONE
BEGIN:VEVENT
DTSTART;TZID=Europe/Paris:20230520T143000
DTEND;TZID=Europe/Paris:20230520T163000
DTSTAMP:20260421T112340
CREATED:20230516T060532Z
LAST-MODIFIED:20230516T075019Z
UID:15291-1684593000-1684600200@www.fcpe78.fr
SUMMARY:Echanges sur la sobriété alimentaire\, le végétarisme (et sesdérivés) et les lois egalim
DESCRIPTION:Cher.e.s adhérent.e.s FCPE\,\nChers parents\, \nVenez échanger avec nous\, dans le cadre du REAAPY\, \nsur le thème de la sobriété alimentaire \net discuter ensemble du rôle et des moyens d’actions des parents d’élèves. \n  \naffichette FCPE conférence Reaapy échanges sur la sobriété alimentaire
URL:https://www.fcpe78.fr/event/echanges-sur-la-sobriete-alimentaire-le-vegetarisme-et-sesderives-et-les-lois-egalim/
LOCATION:CDPE 78 (FCPE 78)\, 29\, avenue Duguay Trouin\, Voisins-le-Bretonneux\, -\, 78960\, France
CATEGORIES:FORMATION gratuite pour les adhérents de la FCPE78,Formations gratuites pour tous les adhérents, au CDPE,Rencontres concernant la parentalité
ORGANIZER;CN="FCPE 78":MAILTO:secretariat@fcpe78.fr
END:VEVENT
END:VCALENDAR