BEGIN:VCALENDAR
VERSION:2.0
PRODID:-//FCPE 78 - CDPE Yvelines - ECPv6.15.20//NONSGML v1.0//EN
CALSCALE:GREGORIAN
METHOD:PUBLISH
X-WR-CALNAME:FCPE 78 - CDPE Yvelines
X-ORIGINAL-URL:https://www.fcpe78.fr
X-WR-CALDESC:Évènements pour FCPE 78 - CDPE Yvelines
REFRESH-INTERVAL;VALUE=DURATION:PT1H
X-Robots-Tag:noindex
X-PUBLISHED-TTL:PT1H
BEGIN:VTIMEZONE
TZID:Europe/Paris
BEGIN:DAYLIGHT
TZOFFSETFROM:+0100
TZOFFSETTO:+0200
TZNAME:CEST
DTSTART:20200329T010000
END:DAYLIGHT
BEGIN:STANDARD
TZOFFSETFROM:+0200
TZOFFSETTO:+0100
TZNAME:CET
DTSTART:20201025T010000
END:STANDARD
BEGIN:DAYLIGHT
TZOFFSETFROM:+0100
TZOFFSETTO:+0200
TZNAME:CEST
DTSTART:20210328T010000
END:DAYLIGHT
BEGIN:STANDARD
TZOFFSETFROM:+0200
TZOFFSETTO:+0100
TZNAME:CET
DTSTART:20211031T010000
END:STANDARD
BEGIN:DAYLIGHT
TZOFFSETFROM:+0100
TZOFFSETTO:+0200
TZNAME:CEST
DTSTART:20220327T010000
END:DAYLIGHT
BEGIN:STANDARD
TZOFFSETFROM:+0200
TZOFFSETTO:+0100
TZNAME:CET
DTSTART:20221030T010000
END:STANDARD
END:VTIMEZONE
BEGIN:VEVENT
DTSTART;TZID=Europe/Paris:20211127T143000
DTEND;TZID=Europe/Paris:20211127T170000
DTSTAMP:20260422T181306
CREATED:20210926T191504Z
LAST-MODIFIED:20211122T233509Z
UID:14789-1638023400-1638032400@www.fcpe78.fr
SUMMARY:Formation: Budget Lycée
DESCRIPTION:Pour les adhérents lycée ou les futurs adhérents lycée \nComprendre la DGF (Dotation Globale Financière)\, \nanalyser et interpeller la commission permanente \nSavoir interpeller la Région et l’Education Nationale (DSDEN) \nProgrammation des travaux\, évolution du mobilier scolaire  \nProjet d’établissement (développement durable) \nFormation ANNULEE
URL:https://www.fcpe78.fr/event/formation-budget-lycee/
LOCATION:à minima 24h avant
CATEGORIES:Formations gratuites pour tous les adhérents, au CDPE
END:VEVENT
END:VCALENDAR