BEGIN:VCALENDAR
VERSION:2.0
PRODID:-//FCPE 78 - CDPE Yvelines - ECPv6.15.20//NONSGML v1.0//EN
CALSCALE:GREGORIAN
METHOD:PUBLISH
X-WR-CALNAME:FCPE 78 - CDPE Yvelines
X-ORIGINAL-URL:https://www.fcpe78.fr
X-WR-CALDESC:Évènements pour FCPE 78 - CDPE Yvelines
REFRESH-INTERVAL;VALUE=DURATION:PT1H
X-Robots-Tag:noindex
X-PUBLISHED-TTL:PT1H
BEGIN:VTIMEZONE
TZID:Europe/Paris
BEGIN:DAYLIGHT
TZOFFSETFROM:+0100
TZOFFSETTO:+0200
TZNAME:CEST
DTSTART:20200329T010000
END:DAYLIGHT
BEGIN:STANDARD
TZOFFSETFROM:+0200
TZOFFSETTO:+0100
TZNAME:CET
DTSTART:20201025T010000
END:STANDARD
BEGIN:DAYLIGHT
TZOFFSETFROM:+0100
TZOFFSETTO:+0200
TZNAME:CEST
DTSTART:20210328T010000
END:DAYLIGHT
BEGIN:STANDARD
TZOFFSETFROM:+0200
TZOFFSETTO:+0100
TZNAME:CET
DTSTART:20211031T010000
END:STANDARD
BEGIN:DAYLIGHT
TZOFFSETFROM:+0100
TZOFFSETTO:+0200
TZNAME:CEST
DTSTART:20220327T010000
END:DAYLIGHT
BEGIN:STANDARD
TZOFFSETFROM:+0200
TZOFFSETTO:+0100
TZNAME:CET
DTSTART:20221030T010000
END:STANDARD
END:VTIMEZONE
BEGIN:VEVENT
DTSTART;TZID=Europe/Paris:20210608T203000
DTEND;TZID=Europe/Paris:20210608T220000
DTSTAMP:20260423T020454
CREATED:20210311T113411Z
LAST-MODIFIED:20210311T113411Z
UID:14601-1623184200-1623189600@www.fcpe78.fr
SUMMARY:FORMATION en visio : Commissions Appels 1er degré
DESCRIPTION:La formation comprend : \n\nQuelques textes de référence\nLe droit d’appel\nLe principe\nLa commission d’appel qu’est-ce que c’est :\ncomposition\, organisation\, principes\nà l’école primaire\nAvant la commission d’appel\nOrganisation des travaux de la commission\nConditions matérielles\nDécisions de la commission\nPour les parents faisant appel\n\nLe lien de connexion sera envoyé aux inscrits le jour de la formation dans l’après-midi. \n15 places – fin des inscriptions le 08/06 16h
URL:https://www.fcpe78.fr/event/formation-en-visio-commissions-appels-1er-degre/
LOCATION:Conférence en ligne\, Un lien de visioconférence\, vous sera transmis\, à minima 24h avant\, l'événement\, France
CATEGORIES:Formations gratuites pour tous les adhérents, au CDPE
ORGANIZER;CN="FCPE 78":MAILTO:secretariat@fcpe78.fr
END:VEVENT
END:VCALENDAR