BEGIN:VCALENDAR
VERSION:2.0
PRODID:-//FCPE 78 - CDPE Yvelines - ECPv6.15.20//NONSGML v1.0//EN
CALSCALE:GREGORIAN
METHOD:PUBLISH
X-WR-CALNAME:FCPE 78 - CDPE Yvelines
X-ORIGINAL-URL:https://www.fcpe78.fr
X-WR-CALDESC:Évènements pour FCPE 78 - CDPE Yvelines
REFRESH-INTERVAL;VALUE=DURATION:PT1H
X-Robots-Tag:noindex
X-PUBLISHED-TTL:PT1H
BEGIN:VTIMEZONE
TZID:Europe/Paris
BEGIN:DAYLIGHT
TZOFFSETFROM:+0100
TZOFFSETTO:+0200
TZNAME:CEST
DTSTART:20200329T010000
END:DAYLIGHT
BEGIN:STANDARD
TZOFFSETFROM:+0200
TZOFFSETTO:+0100
TZNAME:CET
DTSTART:20201025T010000
END:STANDARD
BEGIN:DAYLIGHT
TZOFFSETFROM:+0100
TZOFFSETTO:+0200
TZNAME:CEST
DTSTART:20210328T010000
END:DAYLIGHT
BEGIN:STANDARD
TZOFFSETFROM:+0200
TZOFFSETTO:+0100
TZNAME:CET
DTSTART:20211031T010000
END:STANDARD
BEGIN:DAYLIGHT
TZOFFSETFROM:+0100
TZOFFSETTO:+0200
TZNAME:CEST
DTSTART:20220327T010000
END:DAYLIGHT
BEGIN:STANDARD
TZOFFSETFROM:+0200
TZOFFSETTO:+0100
TZNAME:CET
DTSTART:20221030T010000
END:STANDARD
END:VTIMEZONE
BEGIN:VEVENT
DTSTART;TZID=Europe/Paris:20210605T143000
DTEND;TZID=Europe/Paris:20210605T160000
DTSTAMP:20260423T020453
CREATED:20210311T112605Z
LAST-MODIFIED:20210604T094655Z
UID:14597-1622903400-1622908800@www.fcpe78.fr
SUMMARY:FORMATION en visio : Les commissions d’appel et de recours – second degré
DESCRIPTION:La formation comprend : \n\nquelques textes de référence\nLe droit d’appel\nLe principe\nLa commission d’appel qu’est-ce que c’est :\ncomposition\, organisation\, principes\nau collège pour les 6ème\, 5ème et 4ème\nau lycée 2nd et 1ère\nAvant la commission d’appel\nOrganisation des travaux de la commission\nConditions matérielles\nDécisions de la commission\n\nLe lien de connexion sera envoyé aux inscrits le 04/06 dans l’après-midi. \n15 places – fin des inscriptions le 05/06 12h
URL:https://www.fcpe78.fr/event/formation-en-visio-les-commissions-dappel-et-de-recours-second-degre/
LOCATION:Conférence en ligne\, Un lien de visioconférence\, vous sera transmis\, à minima 24h avant\, l'événement\, France
CATEGORIES:Formations gratuites pour tous les adhérents, au CDPE
ORGANIZER;CN="FCPE 78":MAILTO:secretariat@fcpe78.fr
END:VEVENT
END:VCALENDAR