BEGIN:VCALENDAR
VERSION:2.0
PRODID:-//FCPE 78 - CDPE Yvelines - ECPv6.15.20//NONSGML v1.0//EN
CALSCALE:GREGORIAN
METHOD:PUBLISH
X-WR-CALNAME:FCPE 78 - CDPE Yvelines
X-ORIGINAL-URL:https://www.fcpe78.fr
X-WR-CALDESC:Évènements pour FCPE 78 - CDPE Yvelines
REFRESH-INTERVAL;VALUE=DURATION:PT1H
X-Robots-Tag:noindex
X-PUBLISHED-TTL:PT1H
BEGIN:VTIMEZONE
TZID:Europe/Paris
BEGIN:DAYLIGHT
TZOFFSETFROM:+0100
TZOFFSETTO:+0200
TZNAME:CEST
DTSTART:20190331T010000
END:DAYLIGHT
BEGIN:STANDARD
TZOFFSETFROM:+0200
TZOFFSETTO:+0100
TZNAME:CET
DTSTART:20191027T010000
END:STANDARD
BEGIN:DAYLIGHT
TZOFFSETFROM:+0100
TZOFFSETTO:+0200
TZNAME:CEST
DTSTART:20200329T010000
END:DAYLIGHT
BEGIN:STANDARD
TZOFFSETFROM:+0200
TZOFFSETTO:+0100
TZNAME:CET
DTSTART:20201025T010000
END:STANDARD
BEGIN:DAYLIGHT
TZOFFSETFROM:+0100
TZOFFSETTO:+0200
TZNAME:CEST
DTSTART:20210328T010000
END:DAYLIGHT
BEGIN:STANDARD
TZOFFSETFROM:+0200
TZOFFSETTO:+0100
TZNAME:CET
DTSTART:20211031T010000
END:STANDARD
END:VTIMEZONE
BEGIN:VEVENT
DTSTART;TZID=Europe/Paris:20200921T203000
DTEND;TZID=Europe/Paris:20200921T223000
DTSTAMP:20260423T165220
CREATED:20200225T115008Z
LAST-MODIFIED:20200921T162227Z
UID:13854-1600720200-1600727400@www.fcpe78.fr
SUMMARY:FORMATION en visio : Les ELECTIONS DE PARENTS D'ELEVES
DESCRIPTION:FORMATION en visio conférence – Nous enverrons le lien pour la visio aux inscrits. \nLes élections de parents d’élèves sont toujours la 1ère semaine de octobre. \nIl faut donc dès septembre prendre connaissance de vos droits et obligations\, rôle des instances\, rôle du parent d’élève\, préparer vos listes\, titulaire ou suppléant\, … \nL’article L. 111-4 du code de l’éducation dispose que les parents d’élèves participent\, par leurs représentants\, aux conseils d’école et aux conseils d’administration des établissements scolaires et aux conseils de classe. \nLe conseil d’école et le conseil d’administration sont des instances dans lesquelles les représentants des parents d’élèves prennent une part active dans la vie et le fonctionnement de l’école ou de l’établissement scolaire\, en lien avec les autres membres de la communauté éducative. \nLes élections des représentants des parents d’élèves aux conseils des écoles et aux conseils d’administration des établissements publics locaux d’enseignement constituent\, à ce titre\, un moment essentiel de l’année scolaire.
URL:https://www.fcpe78.fr/event/formation-les-elections-de-parents-deleves/
LOCATION:Conférence en ligne\, Un lien de visioconférence\, vous sera transmis\, à minima 24h avant\, l'événement\, France
CATEGORIES:Formations gratuites pour tous les adhérents, au CDPE
ORGANIZER;CN="FCPE 78":MAILTO:secretariat@fcpe78.fr
END:VEVENT
BEGIN:VEVENT
DTSTART;TZID=Europe/Paris:20200921T203000
DTEND;TZID=Europe/Paris:20200921T223000
DTSTAMP:20260423T165220
CREATED:20200921T093204Z
LAST-MODIFIED:20200921T162351Z
UID:14384-1600720200-1600727400@www.fcpe78.fr
SUMMARY:2ème session FORMATION en visio : Les ELECTIONS DE PARENTS D'ELEVES
DESCRIPTION:FORMATION en visio conférence – Nous enverrons le lien pour la visio aux inscrits. \nLes élections de parents d’élèves sont toujours la 1ère semaine de octobre. \nIl faut donc dès septembre prendre connaissance de vos droits et obligations\, rôle des instances\, rôle du parent d’élève\, préparer vos listes\, titulaire ou suppléant\, … \nL’article L. 111-4 du code de l’éducation dispose que les parents d’élèves participent\, par leurs représentants\, aux conseils d’école et aux conseils d’administration des établissements scolaires et aux conseils de classe. \nLe conseil d’école et le conseil d’administration sont des instances dans lesquelles les représentants des parents d’élèves prennent une part active dans la vie et le fonctionnement de l’école ou de l’établissement scolaire\, en lien avec les autres membres de la communauté éducative. \nLes élections des représentants des parents d’élèves aux conseils des écoles et aux conseils d’administration des établissements publics locaux d’enseignement constituent\, à ce titre\, un moment essentiel de l’année scolaire.
URL:https://www.fcpe78.fr/event/2eme-session-formation-en-visio-les-elections-de-parents-deleves/
LOCATION:Conférence en ligne\, Un lien de visioconférence\, vous sera transmis\, à minima 24h avant\, l'événement\, France
CATEGORIES:Formations gratuites pour tous les adhérents, au CDPE
ORGANIZER;CN="FCPE 78":MAILTO:secretariat@fcpe78.fr
END:VEVENT
END:VCALENDAR