BEGIN:VCALENDAR
VERSION:2.0
PRODID:-//FCPE 78 - CDPE Yvelines - ECPv6.15.20//NONSGML v1.0//EN
CALSCALE:GREGORIAN
METHOD:PUBLISH
X-ORIGINAL-URL:https://www.fcpe78.fr
X-WR-CALDESC:Évènements pour FCPE 78 - CDPE Yvelines
REFRESH-INTERVAL;VALUE=DURATION:PT1H
X-Robots-Tag:noindex
X-PUBLISHED-TTL:PT1H
BEGIN:VTIMEZONE
TZID:Europe/Paris
BEGIN:DAYLIGHT
TZOFFSETFROM:+0100
TZOFFSETTO:+0200
TZNAME:CEST
DTSTART:20200329T010000
END:DAYLIGHT
BEGIN:STANDARD
TZOFFSETFROM:+0200
TZOFFSETTO:+0100
TZNAME:CET
DTSTART:20201025T010000
END:STANDARD
BEGIN:DAYLIGHT
TZOFFSETFROM:+0100
TZOFFSETTO:+0200
TZNAME:CEST
DTSTART:20210328T010000
END:DAYLIGHT
BEGIN:STANDARD
TZOFFSETFROM:+0200
TZOFFSETTO:+0100
TZNAME:CET
DTSTART:20211031T010000
END:STANDARD
BEGIN:DAYLIGHT
TZOFFSETFROM:+0100
TZOFFSETTO:+0200
TZNAME:CEST
DTSTART:20220327T010000
END:DAYLIGHT
BEGIN:STANDARD
TZOFFSETFROM:+0200
TZOFFSETTO:+0100
TZNAME:CET
DTSTART:20221030T010000
END:STANDARD
END:VTIMEZONE
BEGIN:VEVENT
DTSTART;TZID=Europe/Paris:20210605T143000
DTEND;TZID=Europe/Paris:20210605T160000
DTSTAMP:20260423T002048
CREATED:20210311T112605Z
LAST-MODIFIED:20210604T094655Z
UID:14597-1622903400-1622908800@www.fcpe78.fr
SUMMARY:FORMATION en visio : Les commissions d’appel et de recours – second degré
DESCRIPTION:La formation comprend : \n\nquelques textes de référence\nLe droit d’appel\nLe principe\nLa commission d’appel qu’est-ce que c’est :\ncomposition\, organisation\, principes\nau collège pour les 6ème\, 5ème et 4ème\nau lycée 2nd et 1ère\nAvant la commission d’appel\nOrganisation des travaux de la commission\nConditions matérielles\nDécisions de la commission\n\nLe lien de connexion sera envoyé aux inscrits le 04/06 dans l’après-midi. \n15 places – fin des inscriptions le 05/06 12h
URL:https://www.fcpe78.fr/event/formation-en-visio-les-commissions-dappel-et-de-recours-second-degre/
LOCATION:Conférence en ligne\, Un lien de visioconférence\, vous sera transmis\, à minima 24h avant\, l'événement\, France
CATEGORIES:Formations gratuites pour tous les adhérents, au CDPE
ORGANIZER;CN="FCPE 78":MAILTO:secretariat@fcpe78.fr
END:VEVENT
BEGIN:VEVENT
DTSTART;TZID=Europe/Paris:20210608T203000
DTEND;TZID=Europe/Paris:20210608T220000
DTSTAMP:20260423T002048
CREATED:20210311T113411Z
LAST-MODIFIED:20210311T113411Z
UID:14601-1623184200-1623189600@www.fcpe78.fr
SUMMARY:FORMATION en visio : Commissions Appels 1er degré
DESCRIPTION:La formation comprend : \n\nQuelques textes de référence\nLe droit d’appel\nLe principe\nLa commission d’appel qu’est-ce que c’est :\ncomposition\, organisation\, principes\nà l’école primaire\nAvant la commission d’appel\nOrganisation des travaux de la commission\nConditions matérielles\nDécisions de la commission\nPour les parents faisant appel\n\nLe lien de connexion sera envoyé aux inscrits le jour de la formation dans l’après-midi. \n15 places – fin des inscriptions le 08/06 16h
URL:https://www.fcpe78.fr/event/formation-en-visio-commissions-appels-1er-degre/
LOCATION:Conférence en ligne\, Un lien de visioconférence\, vous sera transmis\, à minima 24h avant\, l'événement\, France
CATEGORIES:Formations gratuites pour tous les adhérents, au CDPE
ORGANIZER;CN="FCPE 78":MAILTO:secretariat@fcpe78.fr
END:VEVENT
BEGIN:VEVENT
DTSTART;TZID=Europe/Paris:20210610T203000
DTEND;TZID=Europe/Paris:20210610T220000
DTSTAMP:20260423T002048
CREATED:20210311T113007Z
LAST-MODIFIED:20210311T113007Z
UID:14599-1623357000-1623362400@www.fcpe78.fr
SUMMARY:FORMATION en visio : La restauration scolaire
DESCRIPTION:La formation comprends : \n\nLes aspects techniques\nLa nutrition : de quoi parle-t-on ?\nObjectif général des textes de référence\nLes objectifs nutritionnels\nLa recommandation sur la nutrition\nExemple de menus\nLe PAI\nRestauration scolaire : qui fait quoi ? (Lycée\, C’midy)\nAccès des enfants à la cantine\nla biométrie\, les cartes\,\ndéveloppement du circuit court\, proximité\n\nLe lien de connexion sera envoyé aux inscrits le 10 juin dans l’après-midi. \n15 places – fin des inscriptions le 10/06 16h
URL:https://www.fcpe78.fr/event/formation-en-visio-la-restauration-scolaire/
LOCATION:Conférence en ligne\, Un lien de visioconférence\, vous sera transmis\, à minima 24h avant\, l'événement\, France
CATEGORIES:Formations gratuites pour tous les adhérents, au CDPE
ORGANIZER;CN="FCPE 78":MAILTO:secretariat@fcpe78.fr
END:VEVENT
BEGIN:VEVENT
DTSTART;TZID=Europe/Paris:20210622T203000
DTEND;TZID=Europe/Paris:20210622T220000
DTSTAMP:20260423T002048
CREATED:20210311T113859Z
LAST-MODIFIED:20210311T113859Z
UID:14603-1624393800-1624399200@www.fcpe78.fr
SUMMARY:FORMATION en visio : Préparation de la rentrée scolaire  dans les EPLE par les parents adhérents
DESCRIPTION:Préparation de la rentrée scolaire dans le second degré. \nLa formation comprend : \n\nQu’est-ce que la FCPE\nRôles et droits …\nles textes des lois sur la rentrée scolaire\nle calendrier de la rentrée et les actions incontournables\nles outils de l’EPLE mis à disposition des parents d’élève (la diffusion des communications relatives à la rentrée – bulletins adhésions…- par voie numérique ou papier)\nla réunion de rentrée\nla liste des parents de l’EPLE\nle réseau des parents FCPE existants (arrivant du niveau précédent et toujours présents)\nprésentation ENT lycée et collège et possibilités pour les parents élus (tuto)\n\nLe lien de connexion sera envoyé aux inscrits le jour de la formation dans l’après-midi. \n15 places – fin des inscriptions le 22/06 16h
URL:https://www.fcpe78.fr/event/formation-en-visio-preparation-de-la-rentree-scolaire-dans-les-eple-par-les-parents-adherents/
LOCATION:Conférence en ligne\, Un lien de visioconférence\, vous sera transmis\, à minima 24h avant\, l'événement\, France
CATEGORIES:Formations gratuites pour tous les adhérents, au CDPE
ORGANIZER;CN="FCPE 78":MAILTO:secretariat@fcpe78.fr
END:VEVENT
BEGIN:VEVENT
DTSTART;TZID=Europe/Paris:20210626T143000
DTEND;TZID=Europe/Paris:20210626T160000
DTSTAMP:20260423T002048
CREATED:20210311T114257Z
LAST-MODIFIED:20210624T142255Z
UID:14605-1624717800-1624723200@www.fcpe78.fr
SUMMARY:FORMATION en visio : Préparation de la rentrée scolaire  dans le Primaire par les parents adhérents
DESCRIPTION:Préparation de la rentrée scolaire dans le Primaire par les parents adhérents. \nLa formation comprend : \n\nQu’est-ce que la FCPE\nRôles et droits …\nles textes des lois sur la rentrée scolaire\nle calendrier de la rentrée et les actions incontournables\nles outils de l’établissement Primaire mis à disposition des parents d’élève (la diffusion des communications relatives à la rentrée – bulletins adhésions…- par voie numérique ou papier)\nla réunion de rentrée\nla liste des parents de l’établissement\nle réseau des parents FCPE existants (arrivant du niveau précédent et toujours présents)\nLes évènements forts de l’année\n\nLe lien de connexion sera envoyé aux inscrits le 25 juin dans l’après-midi. \n18 places – fin des inscriptions le 25/06 16h
URL:https://www.fcpe78.fr/event/formation-en-visio-preparation-de-la-rentree-scolaire-dans-le-primaire-par-les-parents-adherents/
LOCATION:Conférence en ligne\, Un lien de visioconférence\, vous sera transmis\, à minima 24h avant\, l'événement\, France
CATEGORIES:Formations gratuites pour tous les adhérents, au CDPE
ORGANIZER;CN="FCPE 78":MAILTO:secretariat@fcpe78.fr
END:VEVENT
END:VCALENDAR