BEGIN:VCALENDAR
VERSION:2.0
PRODID:-//FCPE 78 - CDPE Yvelines - ECPv6.15.20//NONSGML v1.0//EN
CALSCALE:GREGORIAN
METHOD:PUBLISH
X-ORIGINAL-URL:https://www.fcpe78.fr
X-WR-CALDESC:Évènements pour FCPE 78 - CDPE Yvelines
REFRESH-INTERVAL;VALUE=DURATION:PT1H
X-Robots-Tag:noindex
X-PUBLISHED-TTL:PT1H
BEGIN:VTIMEZONE
TZID:Europe/Paris
BEGIN:DAYLIGHT
TZOFFSETFROM:+0100
TZOFFSETTO:+0200
TZNAME:CEST
DTSTART:20200329T010000
END:DAYLIGHT
BEGIN:STANDARD
TZOFFSETFROM:+0200
TZOFFSETTO:+0100
TZNAME:CET
DTSTART:20201025T010000
END:STANDARD
BEGIN:DAYLIGHT
TZOFFSETFROM:+0100
TZOFFSETTO:+0200
TZNAME:CEST
DTSTART:20210328T010000
END:DAYLIGHT
BEGIN:STANDARD
TZOFFSETFROM:+0200
TZOFFSETTO:+0100
TZNAME:CET
DTSTART:20211031T010000
END:STANDARD
BEGIN:DAYLIGHT
TZOFFSETFROM:+0100
TZOFFSETTO:+0200
TZNAME:CEST
DTSTART:20220327T010000
END:DAYLIGHT
BEGIN:STANDARD
TZOFFSETFROM:+0200
TZOFFSETTO:+0100
TZNAME:CET
DTSTART:20221030T010000
END:STANDARD
END:VTIMEZONE
BEGIN:VEVENT
DTSTART;TZID=Europe/Paris:20210507T203000
DTEND;TZID=Europe/Paris:20210507T220000
DTSTAMP:20260423T020454
CREATED:20210311T103949Z
LAST-MODIFIED:20210311T103949Z
UID:14587-1620419400-1620424800@www.fcpe78.fr
SUMMARY:FORMATION en visioconférence : Commissions Appels 2nd degré
DESCRIPTION:La formation comprend : \n\nQuelques textes de référence\nLe droit d’appel\nLe principe\nLa commission d’appel qu’est-ce que c’est\ncomposition\, organisation\, principes\nau collège pour les 6ème\, 5ème et 4ème\nau lycée 2nd et 1ère\nAvant la commission d’appel\nOrganisation des travaux de la commission\nConditions matérielles\nDécisions de la commission\nPour les parents faisant appel\nQuelques recommandations aux représentants FCPE\n\nLe lien de connexion sera envoyé aux inscrits le 07 mai dans l’après-midi. \n15 places – fin des inscriptions le 07/05 16h
URL:https://www.fcpe78.fr/event/formation-en-visioconference-commissions-appels-2nd-degre/
LOCATION:Conférence en ligne\, Un lien de visioconférence\, vous sera transmis\, à minima 24h avant\, l'événement\, France
CATEGORIES:Formations gratuites pour tous les adhérents, au CDPE
ORGANIZER;CN="FCPE 78":MAILTO:secretariat@fcpe78.fr
END:VEVENT
BEGIN:VEVENT
DTSTART;TZID=Europe/Paris:20210509T100000
DTEND;TZID=Europe/Paris:20210509T120000
DTSTAMP:20260423T020454
CREATED:20210311T104913Z
LAST-MODIFIED:20210311T104913Z
UID:14591-1620554400-1620561600@www.fcpe78.fr
SUMMARY:FORMATION en visio : Les actions ESS – la mobilité\, transport et circulation douce
DESCRIPTION:Les actions ESS – la mobilité\, transport et circulation douce \nLa formation comprend : \n\nRappel des valeurs de la FCPE\nLe rôle des parents d’élèves\nLes actions ESS\nLes services aux familles (pédibus\, …)\nLa problématique générale\n\nLe lien de connexion sera envoyé aux inscrits le 07/05 dans l’après-midi. \n15 places – fin des inscriptions le 07/05 16h \n 
URL:https://www.fcpe78.fr/event/formation-en-visio-les-actions-ess-la-mobilite-transport-et-circulation-douce/
LOCATION:Conférence en ligne\, Un lien de visioconférence\, vous sera transmis\, à minima 24h avant\, l'événement\, France
CATEGORIES:Formations gratuites pour tous les adhérents, au CDPE
ORGANIZER;CN="FCPE 78":MAILTO:secretariat@fcpe78.fr
END:VEVENT
BEGIN:VEVENT
DTSTART;TZID=Europe/Paris:20210518T203000
DTEND;TZID=Europe/Paris:20210518T220000
DTSTAMP:20260423T020454
CREATED:20210312T100537Z
LAST-MODIFIED:20210312T103306Z
UID:14607-1621369800-1621375200@www.fcpe78.fr
SUMMARY:FORMATION en visio : DHG Collège
DESCRIPTION:La dotation horaire globale des collèges : \nLa formation comprend : \n\nDéfinition et problématique\nLes processus d’attribution de la DHG\nLes effectifs – élément déterminant\nLa composition de la DHG\nLes critères pour la dotation\nSuivi de l’évolution de la dotation\nRépartition de la DHG\nConseils aux élus des conseils d’administration.\n\nLe lien de connexion sera envoyé aux inscrits le jour de la formation\, dans l’après-midi. \n15 places – fin des inscriptions le 18/05 16h
URL:https://www.fcpe78.fr/event/formation-en-visio-dhg-college/
LOCATION:Conférence en ligne\, Un lien de visioconférence\, vous sera transmis\, à minima 24h avant\, l'événement\, France
CATEGORIES:Formations gratuites pour tous les adhérents, au CDPE
ORGANIZER;CN="FCPE 78":MAILTO:secretariat@fcpe78.fr
END:VEVENT
BEGIN:VEVENT
DTSTART;TZID=Europe/Paris:20210525T203000
DTEND;TZID=Europe/Paris:20210525T220000
DTSTAMP:20260423T020454
CREATED:20210311T112146Z
LAST-MODIFIED:20210522T062649Z
UID:14595-1621974600-1621980000@www.fcpe78.fr
SUMMARY:FORMATION en visio : Accès aux droits : la médiation
DESCRIPTION:La médiation par le SAF (Syndicat Avocats de France) \nLa formation comprend : \n\nrappel des valeurs de la FCPE\nla médiation : le principe et sa mise en application\nles textes de références\nles ressources du SAF présentées sous forme d’étude de cas\n\nLe lien de connexion sera envoyé aux inscrits le 25/05 dans l’après-midi. \n15 places – fin des inscriptions le 25/05 16h
URL:https://www.fcpe78.fr/event/formation-en-visio-acces-aux-droits-la-mediation/
LOCATION:Conférence en ligne\, Un lien de visioconférence\, vous sera transmis\, à minima 24h avant\, l'événement\, France
CATEGORIES:Formations gratuites pour tous les adhérents, au CDPE
ORGANIZER;CN="FCPE 78":MAILTO:secretariat@fcpe78.fr
END:VEVENT
END:VCALENDAR