BEGIN:VCALENDAR
VERSION:2.0
PRODID:-//FCPE 78 - CDPE Yvelines - ECPv6.15.20//NONSGML v1.0//EN
CALSCALE:GREGORIAN
METHOD:PUBLISH
X-WR-CALNAME:FCPE 78 - CDPE Yvelines
X-ORIGINAL-URL:https://www.fcpe78.fr
X-WR-CALDESC:Évènements pour FCPE 78 - CDPE Yvelines
REFRESH-INTERVAL;VALUE=DURATION:PT1H
X-Robots-Tag:noindex
X-PUBLISHED-TTL:PT1H
BEGIN:VTIMEZONE
TZID:Europe/Paris
BEGIN:DAYLIGHT
TZOFFSETFROM:+0100
TZOFFSETTO:+0200
TZNAME:CEST
DTSTART:20200329T010000
END:DAYLIGHT
BEGIN:STANDARD
TZOFFSETFROM:+0200
TZOFFSETTO:+0100
TZNAME:CET
DTSTART:20201025T010000
END:STANDARD
BEGIN:DAYLIGHT
TZOFFSETFROM:+0100
TZOFFSETTO:+0200
TZNAME:CEST
DTSTART:20210328T010000
END:DAYLIGHT
BEGIN:STANDARD
TZOFFSETFROM:+0200
TZOFFSETTO:+0100
TZNAME:CET
DTSTART:20211031T010000
END:STANDARD
BEGIN:DAYLIGHT
TZOFFSETFROM:+0100
TZOFFSETTO:+0200
TZNAME:CEST
DTSTART:20220327T010000
END:DAYLIGHT
BEGIN:STANDARD
TZOFFSETFROM:+0200
TZOFFSETTO:+0100
TZNAME:CET
DTSTART:20221030T010000
END:STANDARD
END:VTIMEZONE
BEGIN:VEVENT
DTSTART;TZID=Europe/Paris:20210406T203000
DTEND;TZID=Europe/Paris:20210406T220000
DTSTAMP:20260423T033918
CREATED:20210311T091934Z
LAST-MODIFIED:20210311T103247Z
UID:14572-1617741000-1617746400@www.fcpe78.fr
SUMMARY:FORMATION en visioconférence : RESF
DESCRIPTION:Scolarisation des jeunes étrangers et des enfants de familles étrangères ;\nle Réseau éducation sans frontières – RESF \nLa formation comprend : \n\nLa scolarisation est légale (avant 3 ans\, entre 3 et 6 ans\, de 6 à 16 ans\, après 16 ans)\nComment faire appliquer les textes sur la scolarisation (Code de l’éducation\, Convention internationale des droits de l’enfant…)\nComment éviter aux enfants et aux jeunes les interruptions de la scolarité (familles hébergées\, familles menacées d’expulsion\, MIE\, jeunes majeurs)\nComment les adhérents FCPE peuvent-ils s’impliquer dans la prévention et la protection\nExemples de cas d’intervention de la FCPE (pétition\, courriers\, communiqués de presse\, banderoles…)\n\n  \nLe lien de connexion est envoyé aux inscrits le jour de la formation\, dans l’après-midi. \n15 places – fin des inscriptions le 06/04 16h
URL:https://www.fcpe78.fr/event/formation-en-visioconference-resf/
LOCATION:Conférence en ligne\, Un lien de visioconférence\, vous sera transmis\, à minima 24h avant\, l'événement\, France
CATEGORIES:Formations gratuites pour tous les adhérents, au CDPE
ORGANIZER;CN="FCPE 78":MAILTO:secretariat@fcpe78.fr
END:VEVENT
BEGIN:VEVENT
DTSTART;TZID=Europe/Paris:20210410T143000
DTEND;TZID=Europe/Paris:20210410T160000
DTSTAMP:20260423T033918
CREATED:20210311T092535Z
LAST-MODIFIED:20210311T103221Z
UID:14574-1618065000-1618070400@www.fcpe78.fr
SUMMARY:FORMATION en visioconférence : Conseil de discipline
DESCRIPTION:La formation comprends : \n\nOrganisation et fonctionnement du conseil de discipline\nle rôle du parent élu\nse préparer au conseil de discipline\nagir après le conseil de discipline (PV\, sanction…)\nle recours\n\n  \nLe lien de connexion est envoyé aux inscrits la veille de la formation\, dans l’après-midi. \n15 places – fin des inscriptions le 09/04 16h
URL:https://www.fcpe78.fr/event/formation-en-visioconference-conseil-de-discipline/
LOCATION:Conférence en ligne\, Un lien de visioconférence\, vous sera transmis\, à minima 24h avant\, l'événement\, France
CATEGORIES:Formations gratuites pour tous les adhérents, au CDPE
ORGANIZER;CN="FCPE 78":MAILTO:secretariat@fcpe78.fr
END:VEVENT
BEGIN:VEVENT
DTSTART;TZID=Europe/Paris:20210411T143000
DTEND;TZID=Europe/Paris:20210411T160000
DTSTAMP:20260423T033918
CREATED:20210311T092940Z
LAST-MODIFIED:20210311T103154Z
UID:14576-1618151400-1618156800@www.fcpe78.fr
SUMMARY:FORMATION en visioconférence : Orientation en conseil de classe (second degré)
DESCRIPTION:La formation comprend : \n\nRappel des valeurs de la FCPE\nLe rôle des parents d’élèves\nLe décrochage scolaire\nLes temps de l’orientation\nAccompagner les familles\nLa sauvegarde des CIO\nLa problématique générale\nl’orientation fin de troisième et les spécialités de seconde\, l’orientation en tertiaire ou voie pro (fiche de vœux…)\nles recours\, les commissions d’appel\n\n  \nLe lien de connexion sera envoyé aux inscrits le vendredi dans l’après-midi. \n15 places – fin des inscriptions le 09/04 16h
URL:https://www.fcpe78.fr/event/formation-en-visioconference-orientation-en-conseil-de-classe-second-degre/
LOCATION:Conférence en ligne\, Un lien de visioconférence\, vous sera transmis\, à minima 24h avant\, l'événement\, France
CATEGORIES:Formations gratuites pour tous les adhérents, au CDPE
ORGANIZER;CN="FCPE 78":MAILTO:secretariat@fcpe78.fr
END:VEVENT
BEGIN:VEVENT
DTSTART;TZID=Europe/Paris:20210412T203000
DTEND;TZID=Europe/Paris:20210412T220000
DTSTAMP:20260423T033918
CREATED:20210311T104338Z
LAST-MODIFIED:20210401T113954Z
UID:14589-1618259400-1618264800@www.fcpe78.fr
SUMMARY:FORMATION en visioconférence : Prévention Santé
DESCRIPTION:La formation comprends : \n\nRappel des valeurs de la FCPE\nTravailler sur son territoire à la promotion de la Santé via le CESC (Comité d’éducation à la santé et à la citoyenneté)\nTravailler avec les établissements pour les questions de santé\, bien-être des élèves\n\nLe lien de connexion sera envoyé aux inscrits le 12 avril dans l’après-midi. \n15 places – fin des inscriptions le 12/04 16h
URL:https://www.fcpe78.fr/event/formation-en-visioconference-prevention-sante/
LOCATION:Conférence en ligne\, Un lien de visioconférence\, vous sera transmis\, à minima 24h avant\, l'événement\, France
CATEGORIES:Formations gratuites pour tous les adhérents, au CDPE
ORGANIZER;CN="FCPE 78":MAILTO:secretariat@fcpe78.fr
END:VEVENT
BEGIN:VEVENT
DTSTART;TZID=Europe/Paris:20210413T203000
DTEND;TZID=Europe/Paris:20210413T220000
DTSTAMP:20260423T033918
CREATED:20210311T094229Z
LAST-MODIFIED:20210311T103046Z
UID:14584-1618345800-1618351200@www.fcpe78.fr
SUMMARY:FORMATION en visioconférence :  web
DESCRIPTION:La formation comprend : \n\nDéfinition et aspects règlementaires (textes officiels)\nPlan de communication\nLes outils\nLa rédaction d’article entonnoir\nLes formulaires\nCas pratique\nExploiter les documents du CDPE78 mis à disposition des Conseils Locaux\n\nLe lien de connexion est envoyé aux inscrits le 13/04 dans l’après-midi. \n15 places – fin des inscriptions le 13/04/16h
URL:https://www.fcpe78.fr/event/formation-en-visioconference-web/
LOCATION:Conférence en ligne\, Un lien de visioconférence\, vous sera transmis\, à minima 24h avant\, l'événement\, France
CATEGORIES:Formations gratuites pour tous les adhérents, au CDPE
ORGANIZER;CN="FCPE 78":MAILTO:secretariat@fcpe78.fr
END:VEVENT
END:VCALENDAR