BEGIN:VCALENDAR
VERSION:2.0
PRODID:-//FCPE 78 - CDPE Yvelines - ECPv6.15.20//NONSGML v1.0//EN
CALSCALE:GREGORIAN
METHOD:PUBLISH
X-ORIGINAL-URL:https://www.fcpe78.fr
X-WR-CALDESC:Évènements pour FCPE 78 - CDPE Yvelines
REFRESH-INTERVAL;VALUE=DURATION:PT1H
X-Robots-Tag:noindex
X-PUBLISHED-TTL:PT1H
BEGIN:VTIMEZONE
TZID:Europe/Paris
BEGIN:DAYLIGHT
TZOFFSETFROM:+0100
TZOFFSETTO:+0200
TZNAME:CEST
DTSTART:20190331T010000
END:DAYLIGHT
BEGIN:STANDARD
TZOFFSETFROM:+0200
TZOFFSETTO:+0100
TZNAME:CET
DTSTART:20191027T010000
END:STANDARD
BEGIN:DAYLIGHT
TZOFFSETFROM:+0100
TZOFFSETTO:+0200
TZNAME:CEST
DTSTART:20200329T010000
END:DAYLIGHT
BEGIN:STANDARD
TZOFFSETFROM:+0200
TZOFFSETTO:+0100
TZNAME:CET
DTSTART:20201025T010000
END:STANDARD
BEGIN:DAYLIGHT
TZOFFSETFROM:+0100
TZOFFSETTO:+0200
TZNAME:CEST
DTSTART:20210328T010000
END:DAYLIGHT
BEGIN:STANDARD
TZOFFSETFROM:+0200
TZOFFSETTO:+0100
TZNAME:CET
DTSTART:20211031T010000
END:STANDARD
END:VTIMEZONE
BEGIN:VEVENT
DTSTART;TZID=Europe/Paris:20201108T093000
DTEND;TZID=Europe/Paris:20201108T123000
DTSTAMP:20260423T115227
CREATED:20200226T115737Z
LAST-MODIFIED:20201106T100600Z
UID:13867-1604827800-1604838600@www.fcpe78.fr
SUMMARY:FORMATION : LE CONSEIL DE CLASSE en Visioconféfrence
DESCRIPTION:Le lien de connexion sera envoyé aux adhérents inscrits. \nLes inscriptions se termineront le 06/11 17h
URL:https://www.fcpe78.fr/event/formation-le-conseil-de-classe/
LOCATION:Conférence en ligne\, Un lien de visioconférence\, vous sera transmis\, à minima 24h avant\, l'événement\, France
CATEGORIES:Formations gratuites pour tous les adhérents, au CDPE
ORGANIZER;CN="FCPE 78":MAILTO:secretariat@fcpe78.fr
END:VEVENT
BEGIN:VEVENT
DTSTART;TZID=Europe/Paris:20201108T140000
DTEND;TZID=Europe/Paris:20201108T180000
DTSTAMP:20260423T115227
CREATED:20200226T115633Z
LAST-MODIFIED:20201102T152311Z
UID:13875-1604844000-1604858400@www.fcpe78.fr
SUMMARY:FORMATION : LE CONSEIL D'ECOLE en Visioconférence
DESCRIPTION:Le lien de connexion sera envoyé aux adhérents inscrits. \nLes inscriptions se termineront le vendredi 06 novembre 17h.
URL:https://www.fcpe78.fr/event/formation-le-conseil-decole/
LOCATION:Conférence en ligne\, Un lien de visioconférence\, vous sera transmis\, à minima 24h avant\, l'événement\, France
CATEGORIES:Formations gratuites pour tous les adhérents, au CDPE
ORGANIZER;CN="FCPE 78":MAILTO:secretariat@fcpe78.fr
END:VEVENT
BEGIN:VEVENT
DTSTART;TZID=Europe/Paris:20201114T093000
DTEND;TZID=Europe/Paris:20201114T123000
DTSTAMP:20260423T115227
CREATED:20200226T115607Z
LAST-MODIFIED:20201113T163730Z
UID:13877-1605346200-1605357000@www.fcpe78.fr
SUMMARY:FORMATION : Conseil de discipline en visioconférence
DESCRIPTION:Le lien de connexion sera envoyé aux adhérents inscrits. \nLes inscriptions se termineront le 13/11 à 18h15
URL:https://www.fcpe78.fr/event/formation-conseil-de-discipline/
LOCATION:Conférence en ligne\, Un lien de visioconférence\, vous sera transmis\, à minima 24h avant\, l'événement\, France
CATEGORIES:Formations gratuites pour tous les adhérents, au CDPE
ORGANIZER;CN="FCPE 78":MAILTO:secretariat@fcpe78.fr
END:VEVENT
BEGIN:VEVENT
DTSTART;TZID=Europe/Paris:20201114T133000
DTEND;TZID=Europe/Paris:20201114T153000
DTSTAMP:20260423T115227
CREATED:20200226T115513Z
LAST-MODIFIED:20201109T103659Z
UID:13879-1605360600-1605367800@www.fcpe78.fr
SUMMARY:FORMATION : conseil d'administration au COLLEGE en visioconférence
DESCRIPTION:Le lien de connexion sera envoyé aux adhérents inscrits. \nFormation pour les élus au CA. \n  \nLes inscriptions se termineront le 13/11 à 17h
URL:https://www.fcpe78.fr/event/formation-conseil-dadministration-au-college/
LOCATION:Conférence en ligne\, Un lien de visioconférence\, vous sera transmis\, à minima 24h avant\, l'événement\, France
CATEGORIES:Formations gratuites pour tous les adhérents, au CDPE
ORGANIZER;CN="FCPE 78":MAILTO:secretariat@fcpe78.fr
END:VEVENT
BEGIN:VEVENT
DTSTART;TZID=Europe/Paris:20201114T160000
DTEND;TZID=Europe/Paris:20201114T180000
DTSTAMP:20260423T115227
CREATED:20200226T115535Z
LAST-MODIFIED:20201113T163848Z
UID:13881-1605369600-1605376800@www.fcpe78.fr
SUMMARY:FORMATION : conseil d'administration au LYCEE en visioconférence
DESCRIPTION:Le lien de connexion sera envoyé aux adhérents inscrits. \nFormation pour les élus au CA. \n  \nLes inscriptions se termineront le 13/11 à à 17h30
URL:https://www.fcpe78.fr/event/formation-conseil-dadministration-au-lycee/
LOCATION:Conférence en ligne\, Un lien de visioconférence\, vous sera transmis\, à minima 24h avant\, l'événement\, France
CATEGORIES:Formations gratuites pour tous les adhérents, au CDPE
ORGANIZER;CN="FCPE 78":MAILTO:secretariat@fcpe78.fr
END:VEVENT
END:VCALENDAR