BEGIN:VCALENDAR
VERSION:2.0
PRODID:-//FCPE 78 - CDPE Yvelines - ECPv6.15.20//NONSGML v1.0//EN
CALSCALE:GREGORIAN
METHOD:PUBLISH
X-WR-CALNAME:FCPE 78 - CDPE Yvelines
X-ORIGINAL-URL:https://www.fcpe78.fr
X-WR-CALDESC:Évènements pour FCPE 78 - CDPE Yvelines
REFRESH-INTERVAL;VALUE=DURATION:PT1H
X-Robots-Tag:noindex
X-PUBLISHED-TTL:PT1H
BEGIN:VTIMEZONE
TZID:Europe/Paris
BEGIN:DAYLIGHT
TZOFFSETFROM:+0100
TZOFFSETTO:+0200
TZNAME:CEST
DTSTART:20190331T010000
END:DAYLIGHT
BEGIN:STANDARD
TZOFFSETFROM:+0200
TZOFFSETTO:+0100
TZNAME:CET
DTSTART:20191027T010000
END:STANDARD
BEGIN:DAYLIGHT
TZOFFSETFROM:+0100
TZOFFSETTO:+0200
TZNAME:CEST
DTSTART:20200329T010000
END:DAYLIGHT
BEGIN:STANDARD
TZOFFSETFROM:+0200
TZOFFSETTO:+0100
TZNAME:CET
DTSTART:20201025T010000
END:STANDARD
BEGIN:DAYLIGHT
TZOFFSETFROM:+0100
TZOFFSETTO:+0200
TZNAME:CEST
DTSTART:20210328T010000
END:DAYLIGHT
BEGIN:STANDARD
TZOFFSETFROM:+0200
TZOFFSETTO:+0100
TZNAME:CET
DTSTART:20211031T010000
END:STANDARD
END:VTIMEZONE
BEGIN:VEVENT
DTSTART;TZID=Europe/Paris:20200509T093000
DTEND;TZID=Europe/Paris:20200509T120000
DTSTAMP:20260423T212653
CREATED:20200224T165746Z
LAST-MODIFIED:20200430T191754Z
UID:13824-1589016600-1589025600@www.fcpe78.fr
SUMMARY:Formation en visioconférence : Commission d'appel du 1er degré (maternelle et primaire)
DESCRIPTION:Formation en visio pour les adhérents qui vont participer aux commissions d’appel du 1er degré (maternelle et primaire). \nLe lien de connexion vous sera donné après inscription. \nIls vous faut une caméra et un micro sur votre ordinateur ou tablette (ou téléphone). \nPour INFORMATION : nous sommes dans l’attente des dates des commissions. \nPOUR RAPPEL : \nSeuls les personnes qui ont suivies une formation pourront s’inscrire aux commissions. \n 
URL:https://www.fcpe78.fr/event/commissions-dappel-et-de-recours-1er-degre-maternelle-et-primaire/
LOCATION:Conférence en ligne\, Un lien de visioconférence\, vous sera transmis\, à minima 24h avant\, l'événement\, France
CATEGORIES:Formations gratuites pour tous les adhérents, au CDPE
ORGANIZER;CN="FCPE 78":MAILTO:secretariat@fcpe78.fr
END:VEVENT
BEGIN:VEVENT
DTSTART;TZID=Europe/Paris:20200509T093000
DTEND;TZID=Europe/Paris:20200509T120000
DTSTAMP:20260423T212653
CREATED:20200520T114352Z
LAST-MODIFIED:20200520T114352Z
UID:14208-1589016600-1589025600@www.fcpe78.fr
SUMMARY:Formation en Visioconférence : Commission d'appel du 2nd degré (collège et lycée)
DESCRIPTION:Formation sur les commissions d’appel  du 2nd degré (collège et lycée). \nLe lien de connexion vous sera donné après inscription. \nIls vous faut une caméra et un micro sur votre ordinateur ou tablette (ou téléphone). \nIMPORTANT : Il est essentiel qu’un parent d’élève candidat n’ait pas d’enfant concerné par un appel.\nPour siéger vous devez avoir un enfant dans le niveau concerné. \nPOUR INFORMATION : \nLes Commissions d’appel sont le 18 et 19 juin dans les différents bassins des Yvelines. \n 
URL:https://www.fcpe78.fr/event/formation-en-visioconference-commission-dappel-du-2nd-degre-college-et-lycee/
LOCATION:Conférence en ligne\, Un lien de visioconférence\, vous sera transmis\, à minima 24h avant\, l'événement\, France
CATEGORIES:Formations gratuites pour tous les adhérents, au CDPE
END:VEVENT
END:VCALENDAR